BEGIN:VCALENDAR
VERSION:2.0
PRODID:-//West Columbia Gorge Chamber of Commerce - ECPv6.15.20//NONSGML v1.0//EN
CALSCALE:GREGORIAN
METHOD:PUBLISH
X-ORIGINAL-URL:https://westcolumbiagorgechamber.com
X-WR-CALDESC:Events for West Columbia Gorge Chamber of Commerce
REFRESH-INTERVAL;VALUE=DURATION:PT1H
X-Robots-Tag:noindex
X-PUBLISHED-TTL:PT1H
BEGIN:VTIMEZONE
TZID:America/Los_Angeles
BEGIN:DAYLIGHT
TZOFFSETFROM:-0800
TZOFFSETTO:-0700
TZNAME:PDT
DTSTART:20190310T100000
END:DAYLIGHT
BEGIN:STANDARD
TZOFFSETFROM:-0700
TZOFFSETTO:-0800
TZNAME:PST
DTSTART:20191103T090000
END:STANDARD
BEGIN:DAYLIGHT
TZOFFSETFROM:-0800
TZOFFSETTO:-0700
TZNAME:PDT
DTSTART:20200308T100000
END:DAYLIGHT
BEGIN:STANDARD
TZOFFSETFROM:-0700
TZOFFSETTO:-0800
TZNAME:PST
DTSTART:20201101T090000
END:STANDARD
BEGIN:DAYLIGHT
TZOFFSETFROM:-0800
TZOFFSETTO:-0700
TZNAME:PDT
DTSTART:20210314T100000
END:DAYLIGHT
BEGIN:STANDARD
TZOFFSETFROM:-0700
TZOFFSETTO:-0800
TZNAME:PST
DTSTART:20211107T090000
END:STANDARD
END:VTIMEZONE
BEGIN:VEVENT
DTSTART;TZID=America/Los_Angeles:20201119T180000
DTEND;TZID=America/Los_Angeles:20201119T200000
DTSTAMP:20260421T191736
CREATED:20200826T214526Z
LAST-MODIFIED:20200826T214526Z
UID:9815-1605808800-1605816000@westcolumbiagorgechamber.com
SUMMARY:WCGCC Board of Directors Meeting
DESCRIPTION:Chamber Admin is inviting you to a scheduled Zoom meeting. \nTopic: Monthly board meeting\nTime: Nov 19\, 2020 06:00 PM Pacific Time (US and Canada) \nJoin Zoom Meeting\nhttps://us02web.zoom.us/j/87967919010?pwd=SGJNaHdMN2FrZnd3R2x3NE5SVFVDUT09 \nMeeting ID: 879 6791 9010\nPasscode: 110786\nOne tap mobile\n+12532158782\,\,87967919010#\,\,\,\,\,\,0#\,\,110786# US (Tacoma)\n+13462487799\,\,87967919010#\,\,\,\,\,\,0#\,\,110786# US (Houston) \nDial by your location\n        +1 253 215 8782 US (Tacoma)\n        +1 346 248 7799 US (Houston)\n        +1 669 900 6833 US (San Jose)\n        +1 301 715 8592 US (Washington D.C)\n        +1 312 626 6799 US (Chicago)\n        +1 929 436 2866 US (New York)\nMeeting ID: 879 6791 9010\nPasscode: 110786\nFind your local number: https://us02web.zoom.us/u/keo7lc83wV \n \n \n—\n \nKenway Benefits Group \nGeoffrey Kenway\nCell 503-349-3599\n\n\n\n\n \n \n\n\n 
URL:https://westcolumbiagorgechamber.com/event/wcgcc-board-of-directors-meeting-3-4/
LOCATION:Or
CATEGORIES:Board of Directors Meetings,Chamber Meetings
END:VEVENT
BEGIN:VEVENT
DTSTART;TZID=America/Los_Angeles:20201119T180000
DTEND;TZID=America/Los_Angeles:20201119T200000
DTSTAMP:20260421T191736
CREATED:20200826T214526Z
LAST-MODIFIED:20200826T214526Z
UID:7054-1605808800-1605816000@westcolumbiagorgechamber.com
SUMMARY:WCGCC Board of Directors Meeting
DESCRIPTION:Chamber Admin is inviting you to a scheduled Zoom meeting. \nTopic: Monthly board meeting\nTime: Nov 19\, 2020 06:00 PM Pacific Time (US and Canada) \nJoin Zoom Meeting\nhttps://us02web.zoom.us/j/87967919010?pwd=SGJNaHdMN2FrZnd3R2x3NE5SVFVDUT09 \nMeeting ID: 879 6791 9010\nPasscode: 110786\nOne tap mobile\n+12532158782\,\,87967919010#\,\,\,\,\,\,0#\,\,110786# US (Tacoma)\n+13462487799\,\,87967919010#\,\,\,\,\,\,0#\,\,110786# US (Houston) \nDial by your location\n        +1 253 215 8782 US (Tacoma)\n        +1 346 248 7799 US (Houston)\n        +1 669 900 6833 US (San Jose)\n        +1 301 715 8592 US (Washington D.C)\n        +1 312 626 6799 US (Chicago)\n        +1 929 436 2866 US (New York)\nMeeting ID: 879 6791 9010\nPasscode: 110786\nFind your local number: https://us02web.zoom.us/u/keo7lc83wV \n \n \n—\n \nKenway Benefits Group \nGeoffrey Kenway\nCell 503-349-3599\n\n\n\n\n \n \n\n\n 
URL:https://westcolumbiagorgechamber.com/event/wcgcc-board-of-directors-meeting-3/
LOCATION:Or
CATEGORIES:Board of Directors Meetings,Chamber Meetings
END:VEVENT
BEGIN:VEVENT
DTSTART;TZID=America/Los_Angeles:20201119T180000
DTEND;TZID=America/Los_Angeles:20201119T200000
DTSTAMP:20260421T191736
CREATED:20200826T214526Z
LAST-MODIFIED:20200826T214526Z
UID:9333-1605808800-1605816000@westcolumbiagorgechamber.com
SUMMARY:WCGCC Board of Directors Meeting
DESCRIPTION:Chamber Admin is inviting you to a scheduled Zoom meeting. \nTopic: Monthly board meeting\nTime: Nov 19\, 2020 06:00 PM Pacific Time (US and Canada) \nJoin Zoom Meeting\nhttps://us02web.zoom.us/j/87967919010?pwd=SGJNaHdMN2FrZnd3R2x3NE5SVFVDUT09 \nMeeting ID: 879 6791 9010\nPasscode: 110786\nOne tap mobile\n+12532158782\,\,87967919010#\,\,\,\,\,\,0#\,\,110786# US (Tacoma)\n+13462487799\,\,87967919010#\,\,\,\,\,\,0#\,\,110786# US (Houston) \nDial by your location\n        +1 253 215 8782 US (Tacoma)\n        +1 346 248 7799 US (Houston)\n        +1 669 900 6833 US (San Jose)\n        +1 301 715 8592 US (Washington D.C)\n        +1 312 626 6799 US (Chicago)\n        +1 929 436 2866 US (New York)\nMeeting ID: 879 6791 9010\nPasscode: 110786\nFind your local number: https://us02web.zoom.us/u/keo7lc83wV \n \n \n—\n \nKenway Benefits Group \nGeoffrey Kenway\nCell 503-349-3599\n\n\n\n\n \n \n\n\n 
URL:https://westcolumbiagorgechamber.com/event/wcgcc-board-of-directors-meeting-3-2/
LOCATION:Or
CATEGORIES:Board of Directors Meetings,Chamber Meetings
END:VEVENT
BEGIN:VEVENT
DTSTART;TZID=America/Los_Angeles:20201119T180000
DTEND;TZID=America/Los_Angeles:20201119T200000
DTSTAMP:20260421T191736
CREATED:20200826T214526Z
LAST-MODIFIED:20200826T214526Z
UID:9368-1605808800-1605816000@westcolumbiagorgechamber.com
SUMMARY:WCGCC Board of Directors Meeting
DESCRIPTION:Chamber Admin is inviting you to a scheduled Zoom meeting. \nTopic: Monthly board meeting\nTime: Nov 19\, 2020 06:00 PM Pacific Time (US and Canada) \nJoin Zoom Meeting\nhttps://us02web.zoom.us/j/87967919010?pwd=SGJNaHdMN2FrZnd3R2x3NE5SVFVDUT09 \nMeeting ID: 879 6791 9010\nPasscode: 110786\nOne tap mobile\n+12532158782\,\,87967919010#\,\,\,\,\,\,0#\,\,110786# US (Tacoma)\n+13462487799\,\,87967919010#\,\,\,\,\,\,0#\,\,110786# US (Houston) \nDial by your location\n        +1 253 215 8782 US (Tacoma)\n        +1 346 248 7799 US (Houston)\n        +1 669 900 6833 US (San Jose)\n        +1 301 715 8592 US (Washington D.C)\n        +1 312 626 6799 US (Chicago)\n        +1 929 436 2866 US (New York)\nMeeting ID: 879 6791 9010\nPasscode: 110786\nFind your local number: https://us02web.zoom.us/u/keo7lc83wV \n \n \n—\n \nKenway Benefits Group \nGeoffrey Kenway\nCell 503-349-3599\n\n\n\n\n \n \n\n\n 
URL:https://westcolumbiagorgechamber.com/event/wcgcc-board-of-directors-meeting-3-3/
LOCATION:Or
CATEGORIES:Board of Directors Meetings,Chamber Meetings
END:VEVENT
END:VCALENDAR