BEGIN:VCALENDAR
VERSION:2.0
PRODID:-//West Columbia Gorge Chamber of Commerce - ECPv6.15.20//NONSGML v1.0//EN
CALSCALE:GREGORIAN
METHOD:PUBLISH
X-ORIGINAL-URL:https://westcolumbiagorgechamber.com
X-WR-CALDESC:Events for West Columbia Gorge Chamber of Commerce
REFRESH-INTERVAL;VALUE=DURATION:PT1H
X-Robots-Tag:noindex
X-PUBLISHED-TTL:PT1H
BEGIN:VTIMEZONE
TZID:America/Los_Angeles
BEGIN:DAYLIGHT
TZOFFSETFROM:-0800
TZOFFSETTO:-0700
TZNAME:PDT
DTSTART:20190310T100000
END:DAYLIGHT
BEGIN:STANDARD
TZOFFSETFROM:-0700
TZOFFSETTO:-0800
TZNAME:PST
DTSTART:20191103T090000
END:STANDARD
BEGIN:DAYLIGHT
TZOFFSETFROM:-0800
TZOFFSETTO:-0700
TZNAME:PDT
DTSTART:20200308T100000
END:DAYLIGHT
BEGIN:STANDARD
TZOFFSETFROM:-0700
TZOFFSETTO:-0800
TZNAME:PST
DTSTART:20201101T090000
END:STANDARD
BEGIN:DAYLIGHT
TZOFFSETFROM:-0800
TZOFFSETTO:-0700
TZNAME:PDT
DTSTART:20210314T100000
END:DAYLIGHT
BEGIN:STANDARD
TZOFFSETFROM:-0700
TZOFFSETTO:-0800
TZNAME:PST
DTSTART:20211107T090000
END:STANDARD
END:VTIMEZONE
BEGIN:VEVENT
DTSTART;TZID=America/Los_Angeles:20200116T180000
DTEND;TZID=America/Los_Angeles:20200116T203000
DTSTAMP:20260422T160248
CREATED:20191021T201223Z
LAST-MODIFIED:20191021T201223Z
UID:9764-1579197600-1579206600@westcolumbiagorgechamber.com
SUMMARY:Board of Directors Meeting
DESCRIPTION:The Board of Directors will be meeting at 6 pm in the conference room above the chamber office. Public welcome.
URL:https://westcolumbiagorgechamber.com/event/board-of-directors-meeting-33-4/
LOCATION:Zoom meeting\, 107 E. Historic Columbia River Hwy\, Troutdale\, OR\, 97060\, United States
CATEGORIES:Board of Directors Meetings,Chamber Meetings
END:VEVENT
BEGIN:VEVENT
DTSTART;TZID=America/Los_Angeles:20200116T180000
DTEND;TZID=America/Los_Angeles:20200116T203000
DTSTAMP:20260422T160248
CREATED:20191021T201223Z
LAST-MODIFIED:20191021T201223Z
UID:6597-1579197600-1579206600@westcolumbiagorgechamber.com
SUMMARY:Board of Directors Meeting
DESCRIPTION:The Board of Directors will be meeting at 6 pm in the conference room above the chamber office. Public welcome.
URL:https://westcolumbiagorgechamber.com/event/board-of-directors-meeting-33/
LOCATION:Zoom meeting\, 107 E. Historic Columbia River Hwy\, Troutdale\, OR\, 97060\, United States
CATEGORIES:Board of Directors Meetings,Chamber Meetings
END:VEVENT
BEGIN:VEVENT
DTSTART;TZID=America/Los_Angeles:20200116T180000
DTEND;TZID=America/Los_Angeles:20200116T203000
DTSTAMP:20260422T160248
CREATED:20191021T201223Z
LAST-MODIFIED:20191021T201223Z
UID:9181-1579197600-1579206600@westcolumbiagorgechamber.com
SUMMARY:Board of Directors Meeting
DESCRIPTION:The Board of Directors will be meeting at 6 pm in the conference room above the chamber office. Public welcome.
URL:https://westcolumbiagorgechamber.com/event/board-of-directors-meeting-33-2/
LOCATION:Zoom meeting\, 107 E. Historic Columbia River Hwy\, Troutdale\, OR\, 97060\, United States
CATEGORIES:Board of Directors Meetings,Chamber Meetings
END:VEVENT
BEGIN:VEVENT
DTSTART;TZID=America/Los_Angeles:20200116T180000
DTEND;TZID=America/Los_Angeles:20200116T203000
DTSTAMP:20260422T160248
CREATED:20191021T201223Z
LAST-MODIFIED:20191021T201223Z
UID:9219-1579197600-1579206600@westcolumbiagorgechamber.com
SUMMARY:Board of Directors Meeting
DESCRIPTION:The Board of Directors will be meeting at 6 pm in the conference room above the chamber office. Public welcome.
URL:https://westcolumbiagorgechamber.com/event/board-of-directors-meeting-33-3/
LOCATION:Zoom meeting\, 107 E. Historic Columbia River Hwy\, Troutdale\, OR\, 97060\, United States
CATEGORIES:Board of Directors Meetings,Chamber Meetings
END:VEVENT
END:VCALENDAR