BEGIN:VCALENDAR
VERSION:2.0
PRODID:-//West Columbia Gorge Chamber of Commerce - ECPv6.15.20//NONSGML v1.0//EN
CALSCALE:GREGORIAN
METHOD:PUBLISH
X-ORIGINAL-URL:https://westcolumbiagorgechamber.com
X-WR-CALDESC:Events for West Columbia Gorge Chamber of Commerce
REFRESH-INTERVAL;VALUE=DURATION:PT1H
X-Robots-Tag:noindex
X-PUBLISHED-TTL:PT1H
BEGIN:VTIMEZONE
TZID:America/Los_Angeles
BEGIN:DAYLIGHT
TZOFFSETFROM:-0800
TZOFFSETTO:-0700
TZNAME:PDT
DTSTART:20170312T100000
END:DAYLIGHT
BEGIN:STANDARD
TZOFFSETFROM:-0700
TZOFFSETTO:-0800
TZNAME:PST
DTSTART:20171105T090000
END:STANDARD
BEGIN:DAYLIGHT
TZOFFSETFROM:-0800
TZOFFSETTO:-0700
TZNAME:PDT
DTSTART:20180311T100000
END:DAYLIGHT
BEGIN:STANDARD
TZOFFSETFROM:-0700
TZOFFSETTO:-0800
TZNAME:PST
DTSTART:20181104T090000
END:STANDARD
BEGIN:DAYLIGHT
TZOFFSETFROM:-0800
TZOFFSETTO:-0700
TZNAME:PDT
DTSTART:20190310T100000
END:DAYLIGHT
BEGIN:STANDARD
TZOFFSETFROM:-0700
TZOFFSETTO:-0800
TZNAME:PST
DTSTART:20191103T090000
END:STANDARD
END:VTIMEZONE
BEGIN:VEVENT
DTSTART;TZID=America/Los_Angeles:20180712T190000
DTEND;TZID=America/Los_Angeles:20180712T210000
DTSTAMP:20260424T084124
CREATED:20180515T194152Z
LAST-MODIFIED:20180515T194152Z
UID:8858-1531422000-1531429200@westcolumbiagorgechamber.com
SUMMARY:Board of Directors Meeting-this meeting has been cancelled
DESCRIPTION:The Board of Directors will be meeting at 7pm in the Kellogg Room at the Troutdale Policing Community Center. \nThis meeting has been cancelled. 
URL:https://westcolumbiagorgechamber.com/event/board-of-directors-meeting-17-2/
LOCATION:The Kellogg Room at Troutdale Policing Community Center\, 234 SW Kendall Ave\, Troutdale\, OR\, 97060\, United States
CATEGORIES:Board of Directors Meetings,Chamber Meetings
END:VEVENT
BEGIN:VEVENT
DTSTART;TZID=America/Los_Angeles:20180712T190000
DTEND;TZID=America/Los_Angeles:20180712T210000
DTSTAMP:20260424T084124
CREATED:20180515T194152Z
LAST-MODIFIED:20180515T194152Z
UID:8897-1531422000-1531429200@westcolumbiagorgechamber.com
SUMMARY:Board of Directors Meeting-this meeting has been cancelled
DESCRIPTION:The Board of Directors will be meeting at 7pm in the Kellogg Room at the Troutdale Policing Community Center. \nThis meeting has been cancelled. 
URL:https://westcolumbiagorgechamber.com/event/board-of-directors-meeting-17-3/
LOCATION:The Kellogg Room at Troutdale Policing Community Center\, 234 SW Kendall Ave\, Troutdale\, OR\, 97060\, United States
CATEGORIES:Board of Directors Meetings,Chamber Meetings
END:VEVENT
BEGIN:VEVENT
DTSTART;TZID=America/Los_Angeles:20180712T190000
DTEND;TZID=America/Los_Angeles:20180712T210000
DTSTAMP:20260424T084124
CREATED:20180515T194152Z
LAST-MODIFIED:20180515T194152Z
UID:9656-1531422000-1531429200@westcolumbiagorgechamber.com
SUMMARY:Board of Directors Meeting-this meeting has been cancelled
DESCRIPTION:The Board of Directors will be meeting at 7pm in the Kellogg Room at the Troutdale Policing Community Center. \nThis meeting has been cancelled. 
URL:https://westcolumbiagorgechamber.com/event/board-of-directors-meeting-17-4/
LOCATION:The Kellogg Room at Troutdale Policing Community Center\, 234 SW Kendall Ave\, Troutdale\, OR\, 97060\, United States
CATEGORIES:Board of Directors Meetings,Chamber Meetings
END:VEVENT
BEGIN:VEVENT
DTSTART;TZID=America/Los_Angeles:20180712T190000
DTEND;TZID=America/Los_Angeles:20180712T210000
DTSTAMP:20260424T084124
CREATED:20180515T194152Z
LAST-MODIFIED:20180515T194152Z
UID:5611-1531422000-1531429200@westcolumbiagorgechamber.com
SUMMARY:Board of Directors Meeting-this meeting has been cancelled
DESCRIPTION:The Board of Directors will be meeting at 7pm in the Kellogg Room at the Troutdale Policing Community Center. \nThis meeting has been cancelled. 
URL:https://westcolumbiagorgechamber.com/event/board-of-directors-meeting-17/
LOCATION:The Kellogg Room at Troutdale Policing Community Center\, 234 SW Kendall Ave\, Troutdale\, OR\, 97060\, United States
CATEGORIES:Board of Directors Meetings,Chamber Meetings
END:VEVENT
END:VCALENDAR