BEGIN:VCALENDAR
VERSION:2.0
PRODID:-//West Columbia Gorge Chamber of Commerce - ECPv6.15.20//NONSGML v1.0//EN
CALSCALE:GREGORIAN
METHOD:PUBLISH
X-ORIGINAL-URL:https://westcolumbiagorgechamber.com
X-WR-CALDESC:Events for West Columbia Gorge Chamber of Commerce
REFRESH-INTERVAL;VALUE=DURATION:PT1H
X-Robots-Tag:noindex
X-PUBLISHED-TTL:PT1H
BEGIN:VTIMEZONE
TZID:America/Los_Angeles
BEGIN:DAYLIGHT
TZOFFSETFROM:-0800
TZOFFSETTO:-0700
TZNAME:PDT
DTSTART:20220313T100000
END:DAYLIGHT
BEGIN:STANDARD
TZOFFSETFROM:-0700
TZOFFSETTO:-0800
TZNAME:PST
DTSTART:20221106T090000
END:STANDARD
BEGIN:DAYLIGHT
TZOFFSETFROM:-0800
TZOFFSETTO:-0700
TZNAME:PDT
DTSTART:20230312T100000
END:DAYLIGHT
BEGIN:STANDARD
TZOFFSETFROM:-0700
TZOFFSETTO:-0800
TZNAME:PST
DTSTART:20231105T090000
END:STANDARD
BEGIN:DAYLIGHT
TZOFFSETFROM:-0800
TZOFFSETTO:-0700
TZNAME:PDT
DTSTART:20240310T100000
END:DAYLIGHT
BEGIN:STANDARD
TZOFFSETFROM:-0700
TZOFFSETTO:-0800
TZNAME:PST
DTSTART:20241103T090000
END:STANDARD
END:VTIMEZONE
BEGIN:VEVENT
DTSTART;TZID=America/Los_Angeles:20230322T100000
DTEND;TZID=America/Los_Angeles:20230322T120000
DTSTAMP:20260419T170207
CREATED:20230304T035724Z
LAST-MODIFIED:20230304T035724Z
UID:10200-1679479200-1679486400@westcolumbiagorgechamber.com
SUMMARY:Come to the BASH (Business after Social Hours) with our host Jean Linn from Artistree NW!
DESCRIPTION:This month’s after hours will be very unique. We will be meeting at Artistree NW at her business to show and tell what she does and how she does it. Very much like the Made in Oregon shop\, this shop has many handcrafted items and is so homey and regionally attractive. So much to see and there is always something for someone special in your life. After this we will head across the street to Bandits Bar and Grill for some food and drink. Going to be a fun evening so invite a friend or fellow business owner to participate in the fun evening.
URL:https://westcolumbiagorgechamber.com/event/come-to-the-bash-business-after-social-hours-with-our-host-jean-linn-from-artistree-nw-2/
LOCATION:Artistree NW\, 103 W Historic Columbia River Hwy\, Troutdale\, OR\, 97060
CATEGORIES:Business & Social Hours (BASH)
END:VEVENT
END:VCALENDAR