BEGIN:VCALENDAR
VERSION:2.0
PRODID:-//West Columbia Gorge Chamber of Commerce - ECPv6.15.20//NONSGML v1.0//EN
CALSCALE:GREGORIAN
METHOD:PUBLISH
X-WR-CALNAME:West Columbia Gorge Chamber of Commerce
X-ORIGINAL-URL:https://westcolumbiagorgechamber.com
X-WR-CALDESC:Events for West Columbia Gorge Chamber of Commerce
REFRESH-INTERVAL;VALUE=DURATION:PT1H
X-Robots-Tag:noindex
X-PUBLISHED-TTL:PT1H
BEGIN:VTIMEZONE
TZID:America/Los_Angeles
BEGIN:DAYLIGHT
TZOFFSETFROM:-0800
TZOFFSETTO:-0700
TZNAME:PDT
DTSTART:20210314T100000
END:DAYLIGHT
BEGIN:STANDARD
TZOFFSETFROM:-0700
TZOFFSETTO:-0800
TZNAME:PST
DTSTART:20211107T090000
END:STANDARD
BEGIN:DAYLIGHT
TZOFFSETFROM:-0800
TZOFFSETTO:-0700
TZNAME:PDT
DTSTART:20220313T100000
END:DAYLIGHT
BEGIN:STANDARD
TZOFFSETFROM:-0700
TZOFFSETTO:-0800
TZNAME:PST
DTSTART:20221106T090000
END:STANDARD
BEGIN:DAYLIGHT
TZOFFSETFROM:-0800
TZOFFSETTO:-0700
TZNAME:PDT
DTSTART:20230312T100000
END:DAYLIGHT
BEGIN:STANDARD
TZOFFSETFROM:-0700
TZOFFSETTO:-0800
TZNAME:PST
DTSTART:20231105T090000
END:STANDARD
END:VTIMEZONE
BEGIN:VEVENT
DTSTART;TZID=America/Los_Angeles:20220630T100000
DTEND;TZID=America/Los_Angeles:20220630T120000
DTSTAMP:20260420T035131
CREATED:20220628T085245Z
LAST-MODIFIED:20220628T085245Z
UID:10066-1656583200-1656590400@westcolumbiagorgechamber.com
SUMMARY:In-Person Social hour at Troutdale Station Food Carts
DESCRIPTION:What’s Next this week!\nJune 30th\nat 5pm to 7pm\n\nIn-Person Social hour at Troutdale Station Food Carts 151 SW 257th Dr\, Troutdale\, OR 97060 Entrance on 257th.\n\n\n\nCome to the new Troutdale Station Food Carts! The food is amazing from the food carts and the beer garden is open. Indoor seating is available as well. A great variety of food carts are on hand for your dining pleasure. Come early if you can for Happy Hour which runs from 3-5 but there pricing for the Bar is very reasonable and an amazing selection. Something to please anyone’s thirst!\n\n\nThis is an event\, not to miss as so many of us have not had the opportunity to socialize with fellow businesses. Support the newest potential member for the Chamber and this is not one to miss. Let’s have a good time!\n\nIn honor of Independence Day\, we will not have a meeting on the 4th of July so you can spend time with your friends and family. Celebrate this holiday safely.\n\n\n\n\n\n\n\n\n\n\n\n 
URL:https://westcolumbiagorgechamber.com/event/in-person-social-hour-at-troutdale-station-food-carts/
CATEGORIES:Business & Social Hours (BASH),City of Troutdale
END:VEVENT
END:VCALENDAR