BEGIN:VCALENDAR
VERSION:2.0
PRODID:-//West Columbia Gorge Chamber of Commerce - ECPv6.15.20//NONSGML v1.0//EN
CALSCALE:GREGORIAN
METHOD:PUBLISH
X-WR-CALNAME:West Columbia Gorge Chamber of Commerce
X-ORIGINAL-URL:https://westcolumbiagorgechamber.com
X-WR-CALDESC:Events for West Columbia Gorge Chamber of Commerce
REFRESH-INTERVAL;VALUE=DURATION:PT1H
X-Robots-Tag:noindex
X-PUBLISHED-TTL:PT1H
BEGIN:VTIMEZONE
TZID:America/Los_Angeles
BEGIN:DAYLIGHT
TZOFFSETFROM:-0800
TZOFFSETTO:-0700
TZNAME:PDT
DTSTART:20190310T100000
END:DAYLIGHT
BEGIN:STANDARD
TZOFFSETFROM:-0700
TZOFFSETTO:-0800
TZNAME:PST
DTSTART:20191103T090000
END:STANDARD
BEGIN:DAYLIGHT
TZOFFSETFROM:-0800
TZOFFSETTO:-0700
TZNAME:PDT
DTSTART:20200308T100000
END:DAYLIGHT
BEGIN:STANDARD
TZOFFSETFROM:-0700
TZOFFSETTO:-0800
TZNAME:PST
DTSTART:20201101T090000
END:STANDARD
BEGIN:DAYLIGHT
TZOFFSETFROM:-0800
TZOFFSETTO:-0700
TZNAME:PDT
DTSTART:20210314T100000
END:DAYLIGHT
BEGIN:STANDARD
TZOFFSETFROM:-0700
TZOFFSETTO:-0800
TZNAME:PST
DTSTART:20211107T090000
END:STANDARD
END:VTIMEZONE
BEGIN:VEVENT
DTSTART;TZID=America/Los_Angeles:20200813T173000
DTEND;TZID=America/Los_Angeles:20200813T190000
DTSTAMP:20260421T123128
CREATED:20200706T190015Z
LAST-MODIFIED:20200706T190015Z
UID:6868-1597339800-1597345200@westcolumbiagorgechamber.com
SUMMARY:Business & Social Hour at Bandit's @ 5:30 pm - 7 pm
DESCRIPTION:Come and meet with fellow Chamber members. We will be outside in the parking lot 6 ft. apart. If it rains this social hour will be cancelled. If you have questions\, call Marcia @503-669-7473
URL:https://westcolumbiagorgechamber.com/event/business-social-hour/
LOCATION:Bandit’s Bar & Grill\, 108 E Columbia River Hwy\, Troutdale\, OR\, 97060\, United States
CATEGORIES:Business & Social Hours (BASH),Chamber Meetings
END:VEVENT
BEGIN:VEVENT
DTSTART;TZID=America/Los_Angeles:20200813T173000
DTEND;TZID=America/Los_Angeles:20200813T190000
DTSTAMP:20260421T123128
CREATED:20200706T190015Z
LAST-MODIFIED:20200706T190015Z
UID:9264-1597339800-1597345200@westcolumbiagorgechamber.com
SUMMARY:Business & Social Hour at Bandit's @ 5:30 pm - 7 pm
DESCRIPTION:Come and meet with fellow Chamber members. We will be outside in the parking lot 6 ft. apart. If it rains this social hour will be cancelled. If you have questions\, call Marcia @503-669-7473
URL:https://westcolumbiagorgechamber.com/event/business-social-hour-2/
LOCATION:Bandit’s Bar & Grill\, 108 E Columbia River Hwy\, Troutdale\, OR\, 97060\, United States
CATEGORIES:Business & Social Hours (BASH),Chamber Meetings
END:VEVENT
BEGIN:VEVENT
DTSTART;TZID=America/Los_Angeles:20200813T173000
DTEND;TZID=America/Los_Angeles:20200813T190000
DTSTAMP:20260421T123128
CREATED:20200706T190015Z
LAST-MODIFIED:20200706T190015Z
UID:9300-1597339800-1597345200@westcolumbiagorgechamber.com
SUMMARY:Business & Social Hour at Bandit's @ 5:30 pm - 7 pm
DESCRIPTION:Come and meet with fellow Chamber members. We will be outside in the parking lot 6 ft. apart. If it rains this social hour will be cancelled. If you have questions\, call Marcia @503-669-7473
URL:https://westcolumbiagorgechamber.com/event/business-social-hour-3/
LOCATION:Bandit’s Bar & Grill\, 108 E Columbia River Hwy\, Troutdale\, OR\, 97060\, United States
CATEGORIES:Business & Social Hours (BASH),Chamber Meetings
END:VEVENT
BEGIN:VEVENT
DTSTART;TZID=America/Los_Angeles:20200813T173000
DTEND;TZID=America/Los_Angeles:20200813T190000
DTSTAMP:20260421T123128
CREATED:20200706T190015Z
LAST-MODIFIED:20200706T190015Z
UID:9792-1597339800-1597345200@westcolumbiagorgechamber.com
SUMMARY:Business & Social Hour at Bandit's @ 5:30 pm - 7 pm
DESCRIPTION:Come and meet with fellow Chamber members. We will be outside in the parking lot 6 ft. apart. If it rains this social hour will be cancelled. If you have questions\, call Marcia @503-669-7473
URL:https://westcolumbiagorgechamber.com/event/business-social-hour-4/
LOCATION:Bandit’s Bar & Grill\, 108 E Columbia River Hwy\, Troutdale\, OR\, 97060\, United States
CATEGORIES:Business & Social Hours (BASH),Chamber Meetings
END:VEVENT
END:VCALENDAR