BEGIN:VCALENDAR
VERSION:2.0
PRODID:-//West Columbia Gorge Chamber of Commerce - ECPv6.15.20//NONSGML v1.0//EN
CALSCALE:GREGORIAN
METHOD:PUBLISH
X-ORIGINAL-URL:https://westcolumbiagorgechamber.com
X-WR-CALDESC:Events for West Columbia Gorge Chamber of Commerce
REFRESH-INTERVAL;VALUE=DURATION:PT1H
X-Robots-Tag:noindex
X-PUBLISHED-TTL:PT1H
BEGIN:VTIMEZONE
TZID:America/Los_Angeles
BEGIN:DAYLIGHT
TZOFFSETFROM:-0800
TZOFFSETTO:-0700
TZNAME:PDT
DTSTART:20220313T100000
END:DAYLIGHT
BEGIN:STANDARD
TZOFFSETFROM:-0700
TZOFFSETTO:-0800
TZNAME:PST
DTSTART:20221106T090000
END:STANDARD
BEGIN:DAYLIGHT
TZOFFSETFROM:-0800
TZOFFSETTO:-0700
TZNAME:PDT
DTSTART:20230312T100000
END:DAYLIGHT
BEGIN:STANDARD
TZOFFSETFROM:-0700
TZOFFSETTO:-0800
TZNAME:PST
DTSTART:20231105T090000
END:STANDARD
BEGIN:DAYLIGHT
TZOFFSETFROM:-0800
TZOFFSETTO:-0700
TZNAME:PDT
DTSTART:20240310T100000
END:DAYLIGHT
BEGIN:STANDARD
TZOFFSETFROM:-0700
TZOFFSETTO:-0800
TZNAME:PST
DTSTART:20241103T090000
END:STANDARD
END:VTIMEZONE
BEGIN:VEVENT
DTSTART;TZID=America/Los_Angeles:20230426T100000
DTEND;TZID=America/Los_Angeles:20230426T120000
DTSTAMP:20260419T143559
CREATED:20230418T235659Z
LAST-MODIFIED:20230418T235659Z
UID:10214-1682503200-1682510400@westcolumbiagorgechamber.com
SUMMARY:This month's BASH (Business after social hours) will be held at Cherry Park Plaza Senior Living Ctr!
DESCRIPTION:This month’s BASH will be hosted and sponsored by Cherry Park Plaza Senior assisted living center. They will be providing food and beverages of all kinds. Come see Cherry Park and see why this is a great option for those in need of independent to assisted living on all levels. Jacey will be happy to give a tour as well. Support our fellow members and share this event with a friend. This is open to al
URL:https://westcolumbiagorgechamber.com/event/this-months-bash-business-after-social-hours-will-be-held-at-cherry-park-plaza-senior-living-ctr/
LOCATION:Cherry Park Plaza\, 1323 SW Cherry Park Rd\, Troutdale\, OR\, 97060\, United States
CATEGORIES:Business & Social Hours (BASH)
END:VEVENT
END:VCALENDAR