BEGIN:VCALENDAR
VERSION:2.0
PRODID:-//West Columbia Gorge Chamber of Commerce - ECPv6.15.20//NONSGML v1.0//EN
CALSCALE:GREGORIAN
METHOD:PUBLISH
X-WR-CALNAME:West Columbia Gorge Chamber of Commerce
X-ORIGINAL-URL:https://westcolumbiagorgechamber.com
X-WR-CALDESC:Events for West Columbia Gorge Chamber of Commerce
REFRESH-INTERVAL;VALUE=DURATION:PT1H
X-Robots-Tag:noindex
X-PUBLISHED-TTL:PT1H
BEGIN:VTIMEZONE
TZID:America/Los_Angeles
BEGIN:DAYLIGHT
TZOFFSETFROM:-0800
TZOFFSETTO:-0700
TZNAME:PDT
DTSTART:20210314T100000
END:DAYLIGHT
BEGIN:STANDARD
TZOFFSETFROM:-0700
TZOFFSETTO:-0800
TZNAME:PST
DTSTART:20211107T090000
END:STANDARD
BEGIN:DAYLIGHT
TZOFFSETFROM:-0800
TZOFFSETTO:-0700
TZNAME:PDT
DTSTART:20220313T100000
END:DAYLIGHT
BEGIN:STANDARD
TZOFFSETFROM:-0700
TZOFFSETTO:-0800
TZNAME:PST
DTSTART:20221106T090000
END:STANDARD
BEGIN:DAYLIGHT
TZOFFSETFROM:-0800
TZOFFSETTO:-0700
TZNAME:PDT
DTSTART:20230312T100000
END:DAYLIGHT
BEGIN:STANDARD
TZOFFSETFROM:-0700
TZOFFSETTO:-0800
TZNAME:PST
DTSTART:20231105T090000
END:STANDARD
END:VTIMEZONE
BEGIN:VEVENT
DTSTART;TZID=America/Los_Angeles:20221130T100000
DTEND;TZID=America/Los_Angeles:20221130T120000
DTSTAMP:20260419T212148
CREATED:20221130T012208Z
LAST-MODIFIED:20221130T012208Z
UID:10141-1669802400-1669809600@westcolumbiagorgechamber.com
SUMMARY:Movie night with the WCGCC showing "A Christmas Story" on Nov 30th!
DESCRIPTION:The Chamber is doing Movie night to kick off the holiday season. We will be sharing the movie ” A Christmas Story” at Bateman Carroll and having popcorn from their popcorn maker! Just like the movie theaters make. Delicious. So bring your favorite beverage or something you would like to share and have Chamber and famliy time. All ages are welcome and we can hold about 30+ in the room that we have reserved there. So invite a friend and have a light and festive evening watching a classic. So looking forward to this. We will not be having Chamber chat on the 23rd due to the Thanksgiving Holiday.
URL:https://westcolumbiagorgechamber.com/event/movie-night-with-the-wcgcc-showing-a-christmas-story-on-nov-30th/
LOCATION:Bateman and  Carroll Funeral  Home
CATEGORIES:Business & Social Hours (BASH),Events - Chamber
ORGANIZER;CN="West Columbia Gorge Chamber of Commerce":MAILTO:info@westcolumbiagorgechamber.com
END:VEVENT
END:VCALENDAR