BEGIN:VCALENDAR
VERSION:2.0
PRODID:-//West Columbia Gorge Chamber of Commerce - ECPv6.15.20//NONSGML v1.0//EN
CALSCALE:GREGORIAN
METHOD:PUBLISH
X-WR-CALNAME:West Columbia Gorge Chamber of Commerce
X-ORIGINAL-URL:https://westcolumbiagorgechamber.com
X-WR-CALDESC:Events for West Columbia Gorge Chamber of Commerce
REFRESH-INTERVAL;VALUE=DURATION:PT1H
X-Robots-Tag:noindex
X-PUBLISHED-TTL:PT1H
BEGIN:VTIMEZONE
TZID:America/Los_Angeles
BEGIN:DAYLIGHT
TZOFFSETFROM:-0800
TZOFFSETTO:-0700
TZNAME:PDT
DTSTART:20240310T100000
END:DAYLIGHT
BEGIN:STANDARD
TZOFFSETFROM:-0700
TZOFFSETTO:-0800
TZNAME:PST
DTSTART:20241103T090000
END:STANDARD
BEGIN:DAYLIGHT
TZOFFSETFROM:-0800
TZOFFSETTO:-0700
TZNAME:PDT
DTSTART:20250309T100000
END:DAYLIGHT
BEGIN:STANDARD
TZOFFSETFROM:-0700
TZOFFSETTO:-0800
TZNAME:PST
DTSTART:20251102T090000
END:STANDARD
BEGIN:DAYLIGHT
TZOFFSETFROM:-0800
TZOFFSETTO:-0700
TZNAME:PDT
DTSTART:20260308T100000
END:DAYLIGHT
BEGIN:STANDARD
TZOFFSETFROM:-0700
TZOFFSETTO:-0800
TZNAME:PST
DTSTART:20261101T090000
END:STANDARD
END:VTIMEZONE
BEGIN:VEVENT
DTSTART;TZID=America/Los_Angeles:20250723T173000
DTEND;TZID=America/Los_Angeles:20250723T190000
DTSTAMP:20260423T132036
CREATED:20250527T180250Z
LAST-MODIFIED:20250527T180250Z
UID:13393-1753291800-1753297200@westcolumbiagorgechamber.com
SUMMARY:July BASH (Business and Social Hour) will be at Lolo's Boss Pizza in Fairview!
DESCRIPTION:The fun never stops with the West Columbia Gorge Chamber as we enjoy our evening evening event at Lolo’s Boss Pizza at the newest location for Lolp’s.\nInvite a friend or another business to this fun location and the evening where those challenged with a daytime issue can enjoy a Chamber activity.\nSee you there!
URL:https://westcolumbiagorgechamber.com/event/july-bash-business-and-social-hour-will-be-at-lolos-boss-pizza-in-fairview/
LOCATION:OR
CATEGORIES:Business & Social Hours (BASH)
END:VEVENT
END:VCALENDAR