BEGIN:VCALENDAR
VERSION:2.0
PRODID:-//West Columbia Gorge Chamber of Commerce - ECPv6.15.20//NONSGML v1.0//EN
CALSCALE:GREGORIAN
METHOD:PUBLISH
X-WR-CALNAME:West Columbia Gorge Chamber of Commerce
X-ORIGINAL-URL:https://westcolumbiagorgechamber.com
X-WR-CALDESC:Events for West Columbia Gorge Chamber of Commerce
REFRESH-INTERVAL;VALUE=DURATION:PT1H
X-Robots-Tag:noindex
X-PUBLISHED-TTL:PT1H
BEGIN:VTIMEZONE
TZID:America/Los_Angeles
BEGIN:DAYLIGHT
TZOFFSETFROM:-0800
TZOFFSETTO:-0700
TZNAME:PDT
DTSTART:20240310T100000
END:DAYLIGHT
BEGIN:STANDARD
TZOFFSETFROM:-0700
TZOFFSETTO:-0800
TZNAME:PST
DTSTART:20241103T090000
END:STANDARD
BEGIN:DAYLIGHT
TZOFFSETFROM:-0800
TZOFFSETTO:-0700
TZNAME:PDT
DTSTART:20250309T100000
END:DAYLIGHT
BEGIN:STANDARD
TZOFFSETFROM:-0700
TZOFFSETTO:-0800
TZNAME:PST
DTSTART:20251102T090000
END:STANDARD
BEGIN:DAYLIGHT
TZOFFSETFROM:-0800
TZOFFSETTO:-0700
TZNAME:PDT
DTSTART:20260308T100000
END:DAYLIGHT
BEGIN:STANDARD
TZOFFSETFROM:-0700
TZOFFSETTO:-0800
TZNAME:PST
DTSTART:20261101T090000
END:STANDARD
END:VTIMEZONE
BEGIN:VEVENT
DTSTART;TZID=America/Los_Angeles:20250402T113000
DTEND;TZID=America/Los_Angeles:20250402T130000
DTSTAMP:20260423T171546
CREATED:20250305T181821Z
LAST-MODIFIED:20250403T180542Z
UID:13286-1743593400-1743598800@westcolumbiagorgechamber.com
SUMMARY:Trevin Webb Insurance is hosting this month's Learn over lunch with Align Health Partners April  2nd!
DESCRIPTION:Trevin Webb Insurance will be hosting the April learn over lunch. One of Trevin’s insurance partner is the CEO of Align Health Partners.\nMany self employed and families without traditional health coverage\, you need to be here to learn more about the alternatives to the ACA\nand other health insurance options  Bring a friend of another business to hear this informative learn over lunch.  We will be at Lolo’s Boss Pizza in Fairview so come and check this out.
URL:https://westcolumbiagorgechamber.com/event/trevin-webb-insurance-is-hosting-this-months-learn-over-lunch-with-align-health-partners-april-2nd/
LOCATION:Fairview Food Plaza\, 22320 NE Halsey St\, Fairview\, OR\, 97024
CATEGORIES:Learn Over Lunchs
END:VEVENT
END:VCALENDAR